BEGIN:VCALENDAR
VERSION:2.0
PRODID:-//International Mentor Team - ECPv6.14.0//NONSGML v1.0//EN
CALSCALE:GREGORIAN
METHOD:PUBLISH
X-WR-CALNAME:International Mentor Team
X-ORIGINAL-URL:https://www.imt.bme.hu
X-WR-CALDESC:Events for International Mentor Team
REFRESH-INTERVAL;VALUE=DURATION:PT1H
X-Robots-Tag:noindex
X-PUBLISHED-TTL:PT1H
BEGIN:VTIMEZONE
TZID:Europe/Paris
BEGIN:DAYLIGHT
TZOFFSETFROM:+0100
TZOFFSETTO:+0200
TZNAME:CEST
DTSTART:20260329T010000
END:DAYLIGHT
BEGIN:STANDARD
TZOFFSETFROM:+0200
TZOFFSETTO:+0100
TZNAME:CET
DTSTART:20261025T010000
END:STANDARD
END:VTIMEZONE
BEGIN:VEVENT
DTSTART;TZID=Europe/Paris:20260424T190000
DTEND;TZID=Europe/Paris:20260425T030000
DTSTAMP:20260425T234646
CREATED:20260413T155427Z
LAST-MODIFIED:20260419T203255Z
UID:8299-1777057200-1777086000@www.imt.bme.hu
SUMMARY:2016 Party
DESCRIPTION:Hi Everyone\, \n\n\n\nGet ready for the International Week’s Party on the 24th of April\, Friday evening! Since 2026 is the new 2016\, we’d like to take you back in time to your teens and party to the greatest hits of that decade! There are also going to be beerpong\, a photo corner and the best music of the 2010’s!Come\, dress up as your favorite celebrity from that era and dance the night away with your friends and have a helluva night! \n\n\n\nLocation: BME Roller Club (Budapest\, Dombóvári út 3\, 1117) \n\n\n\nEntry is FREE for everybody \n\n\n\nStay tuned\, save the date and bring a friend along! \n\n\n\n[Disclaimer]: By entering the event premises\, you consent to photography\, audio recording\, video recording and its/their release\, publication\, exhibition\, or reproduction to be used for news\, promotional purposes\, inclusion on websites\, or any other purpose by IMT and its affiliates and representatives. IMT reserves the right to exclude participants who fail to act in a manner consistent with general community standards based on IMT’s adjudication. \n\n\n\nLink to facebook event description: https://fb.me/e/47M0OxTm4
URL:https://www.imt.bme.hu/event/2016-party/
ATTACH;FMTTYPE=image/jpeg:https://www.imt.bme.hu/wp-content/uploads/party.jpg
END:VEVENT
BEGIN:VEVENT
DTSTART;TZID=Europe/Paris:20260425T110000
DTEND;TZID=Europe/Paris:20260425T160000
DTSTAMP:20260425T234646
CREATED:20260413T155642Z
LAST-MODIFIED:20260419T203534Z
UID:8302-1777114800-1777132800@www.imt.bme.hu
SUMMARY:Sports Day
DESCRIPTION:Hi Everyone\, \n\n\n\nThis year’s Sports Day is organized jointly by the International Mentor Team and Student Union of University (EHK).Come and touch grass with us on an action-packed day of sports\, fun\, and friendly competition! Whether you’re here to compete or just enjoy the games\, there’s something for everyone.  \n\n\n\nLocation: BME Sportfield (Budapest\, Bogdánfy u. 12\, 1117)Date: April 25th (Saturday)\, 11am \n\n\n\nGames Available:FootballBasketballVolleyball Beerpong Dodgeball BoardgamesChess \n\n\n\nYou can apply for the championship by clicking on the link here (https://linktr.ee/bme.imt) and filling out the FormsThe winning teams will be rewarded with medals! \n\n\n\nBring your game spirit and a winning team! Let’s make this Sport’s Day unforgettable!  \n\n\n\nSee you on the field! \n\n\n\n[Disclaimer]: By entering the event premises\, you consent to photography\, audio recording\, video recording and its/their release\, publication\, exhibition\, or reproduction to be used for news\, promotional purposes\, inclusion on websites\, or any other purpose by IMT and its affiliates and representatives. IMT reserves the right to exclude participants who fail to act in a manner consistent with general community standards based on IMT’s adjudication. \n\n\n\nLink to facebook event description: https://fb.me/e/6HsgiqUlm
URL:https://www.imt.bme.hu/event/sports-day-3/
ATTACH;FMTTYPE=image/jpeg:https://www.imt.bme.hu/wp-content/uploads/sport.jpg
END:VEVENT
BEGIN:VEVENT
DTSTART;TZID=Europe/Paris:20260428T173000
DTEND;TZID=Europe/Paris:20260428T180000
DTSTAMP:20260425T234646
CREATED:20260402T145729Z
LAST-MODIFIED:20260402T145730Z
UID:8275-1777397400-1777399200@www.imt.bme.hu
SUMMARY:Taj application appointment
DESCRIPTION:We are organizing a TAJ application appointment for those applying for their card for the first time. \n\n\n\nAfter receiving your residence permit\, you can apply for a social health insurance card\, also known as a TAJ card. With it\, you can get medicalhelp for free in Hungary. \n\n\n\nDo not miss out on the opportunity and visit us from 5:30 pm in building R\, 1st floor\, room 102. \n\n\n\nDo not forget to bring the following documents printed and filled out:· application form· letter of award· letter of authorization· copy of your address card· copy of your residence permit· copy of your passport· ORIGINAL student status certificate FROM ASC \n\n\n\nYou can find more information here https://www.imt.bme.hu/taj/. \n\n\n\nIf you still have questions after reading our guide on our webpage\, feel free to contact us via imt.documents@bme.hu.
URL:https://www.imt.bme.hu/event/taj-application-appointment-2/
ATTACH;FMTTYPE=image/jpeg:https://www.imt.bme.hu/wp-content/uploads/TAJ-banner-2.jpg
END:VEVENT
BEGIN:VEVENT
DTSTART;TZID=Europe/Paris:20260430T180000
DTEND;TZID=Europe/Paris:20260430T183000
DTSTAMP:20260425T234646
CREATED:20260412T172448Z
LAST-MODIFIED:20260413T153824Z
UID:8285-1777572000-1777573800@www.imt.bme.hu
SUMMARY:Office hours
DESCRIPTION:Are you facing challenges or in need of guidance? If you’ve explored our website but still have questions\, please stop by our office hours. We’re here to provide in-person support and share our best expertise to help you move forward. \n\n\n\nYou can also contact us at: imt.documents@bme.hu \n\n\n\nLocation: Building R\, 1st floor\, Room 102.
URL:https://www.imt.bme.hu/event/office-hours-3/
ATTACH;FMTTYPE=image/png:https://www.imt.bme.hu/wp-content/uploads/image.png
END:VEVENT
END:VCALENDAR